BEGIN:VCALENDAR
VERSION:2.0
PRODID:-//Untitled Arts Foundation - ECPv6.15.10//NONSGML v1.0//EN
CALSCALE:GREGORIAN
METHOD:PUBLISH
X-ORIGINAL-URL:https://untitledarts.org
X-WR-CALDESC:Events for Untitled Arts Foundation
REFRESH-INTERVAL;VALUE=DURATION:PT1H
X-Robots-Tag:noindex
X-PUBLISHED-TTL:PT1H
BEGIN:VTIMEZONE
TZID:Asia/Kolkata
BEGIN:STANDARD
TZOFFSETFROM:+0530
TZOFFSETTO:+0530
TZNAME:IST
DTSTART:20180101T000000
END:STANDARD
END:VTIMEZONE
BEGIN:VEVENT
DTSTART;TZID=Asia/Kolkata:20190629T183000
DTEND;TZID=Asia/Kolkata:20190629T203000
DTSTAMP:20260422T000025
CREATED:20190611T081750Z
LAST-MODIFIED:20190611T081750Z
UID:733-1561833000-1561840200@untitledarts.org
SUMMARY:The Month End Bhaitak 24
DESCRIPTION:The Month End Bhaitak is a programme aimed at bringing Hindustani classical Music to the community through showcasing various artists. Concerts are scheduled last saturday of every month. Seating is on floor mats creating an intimate performance experience. \nWe have successfully completed 23 concerts so far\, its our 24th concert which is our 2nd anniversary concert on 29th June. \nThe month end baithak is presented by @Kesari Tours Pvt Ltd\nOur sincere thanks to Kesari tours Pvt Ltd for presenting The Month End Baithak to the Hindustani music loving community. \nThe June 2019 Baithak is scheduled on 29th saturday at 6.30pm and will be featuring a Hindustani vocal recital by Smt Vasudha Sharma \, Shri Santosh Hegde on tabla and Shri Satish Bhat on harmonium \nFor more information you can call\n9480178002/9483985437
URL:https://untitledarts.org/event/the-month-end-bhaitak-24/
LOCATION:Untitled Arts Foundation\, Space Untitled\, 178\, 5th main Rd\,\, Phase III\, J P Nagar\, Bangalore\, Karnataka\, 560078\, India
CATEGORIES:Concert,Music
ATTACH;FMTTYPE=image/jpeg:https://untitledarts.org/wp-content/uploads/2019/06/62240505_2225709594191624_9200894681993445376_o.jpg
ORGANIZER;CN="Untitled Arts Foundation":MAILTO:anuhr@untitledarts.org
END:VEVENT
END:VCALENDAR